BEGIN:VCALENDAR
PRODID:-//eluceo/ical//2.0/EN
VERSION:2.0
CALSCALE:GREGORIAN
BEGIN:VEVENT
UID:event-168
DTSTAMP:20260420T085146Z
SUMMARY:MasterCie - Coschappen 101
DESCRIPTION:Beste aankomende coschappers\, Het is (bijna) zover… 🎉 De 
 witte jas mag uit de kast\, je studentenleven maakt langzaam plaats voor h
 et échte werk en binnenkort stap jij het ziekenhuis binnen als coassisten
 t. Spannend? Zeker. Overweldigend? Misschien een beetje. Vraag jij je af w
 at je kunt verwachten van je eerste dag? Hoe je een goede indruk maakt? Wa
 t je wel (en vooral niet 😉) moet doen? En hoe het zit met je masterspoo
 r voorkeur? Geen zorgen\, de MasterCie helpt je op weg met Coschappen 101!
  Tijdens deze interactieve workshop nemen we je mee in het reilen en zeile
 n van het coschapleven in regio Oost-Brabant en Limburg. Je krijgt praktis
 che tips &amp\; tricks\, eerlijke verhalen en handige do’s &amp\; don’
 ts zodat jij met meer zelfvertrouwen aan je coschappen begint. ✨ Wat kun
  je verwachten? ✔️ Praktische voorbereiding op je eerste coschap ✔
 ️ Tips over verwachtingen\, beoordelingen en werkhouding ✔️ Informat
 ie over het invullen van je masterspoor voorkeur ✔️ Ruimte om al je vr
 agen te stellen ✔️ Een drankje en wat snacks Of je nu super enthousias
 t bent of licht paniekerig bij het idee van je eerste dienst\, deze worksh
 op is dé perfecte start. 📍 Locatie: Maastrichtzaal UNS40 🕢 Datum &a
 mp\; Tijd: 24 maart 2026 om19.30 uur 💲 Prijs: Leden €1\,- | Niet-lede
 n €1\,50 Wil jij goed voorbereid (en een stuk relaxter) aan je coschappe
 n beginnen? Schrijf je dan snel in! Hopelijk tot dan! Liefs\, De MasterCie
  🩺✨
DTSTART:20260324T183000Z
DTEND:20260324T203000Z
LOCATION:Maastrichtzaal
END:VEVENT
BEGIN:VTIMEZONE
TZID:UTC
BEGIN:STANDARD
DTSTART:20260324T183000
TZNAME:UTC
TZOFFSETTO:+0000
TZOFFSETFROM:+0000
END:STANDARD
END:VTIMEZONE
END:VCALENDAR
